Workbook
Name _tds1: #REF!
Name _tds1: #REF!
Name _tds2: #REF!
Name _tds2: #REF!
Name AIR.Code001: #REF!
Name AIR.Code001: #REF!
Name AIR.Code002: #REF!
Name AIR.Code002: #REF!
Name AIR.Code003: #REF!
Name AIR.Code003: #REF!
Name AIR.Code004: #REF!
Name AIR.Code004: #REF!
Name AIR.Code005: #REF!
Name AIR.Code005: #REF!
Name AIR.Code006: #REF!
Name AIR.Code006: #REF!
Name AIR.Code007: #REF!
Name AIR.Code007: #REF!
Name AIR.Code008: #REF!
Name AIR.Code008: #REF!
Name AIR.TaxExmpIntInc: #REF!
Name AIR.TaxExmpIntInc: #REF!
Name Bank1: #REF!
Name Bank1: #REF!
Name Bank10: #REF!
Name Bank10: #REF!
Name Bank11: #REF!
Name Bank11: #REF!
Name Bank12: #REF!
Name Bank12: #REF!
Name Bank2: #REF!
Name Bank2: #REF!
Name Bank3: #REF!
Name Bank3: #REF!
Name Bank4: #REF!
Name Bank4: #REF!
Name Bank5: #REF!
Name Bank5: #REF!
Name Bank6: #REF!
Name Bank6: #REF!
Name Bank6PCAR: #REF!
Name Bank6PCAR: #REF!
Name Bank7: #REF!
Name Bank7: #REF!
Name Bank8: #REF!
Name Bank8: #REF!
Name Bank9: #REF!
Name Bank9: #REF!
Name BankAccNo: #REF!
Name BankAccNo: #REF!
Name BankArrear: #REF!
Name BankArrear: #REF!
Name BankArrear0: #REF!
Name BankArrear0: #REF!
Name BankArrear1: #REF!
Name BankArrear1: #REF!
Name BankArrear2: #REF!
Name BankArrear2: #REF!
Name BankArrear3: #REF!
Name BankArrear3: #REF!

Sheet GA-55
C1: Please Install - Devlys 10 & Krutidev 10 Fonts | AD1: Yes | AE1: Yes
C2: GPF 2004 | D2: Yes | F2: Surrender | I2: No | K2: Surrender Month | O2: 3 | P2: HRA | R2: 0.1 | S2: Bounus | V2: No | X2: Senior Citizen | AB2: No | AD2: No | AE2: No
AD3: 0.1
C4: GOVT SR. SEC SCHOOL DILOD GORDHANPURA, ATRU BARAN | AD4: 0.2
C5: INCOME TAX CALCULATION (GA-55) FY-2026-27
C6: NAME : | D6: PARMANAND MEGHWAL | K6: SR TEACHER | O6: PAN : | P6: XXXXXXXXX | T6: TAN: | U6: AAAAAAAA | Y6: A/C NO. | AB6: 2225617763 | AD6: Yes | AE6: Yes
M7: RAJTEACHERS.NET | Y7: MOB NO. | AB7: 9784379510 | AD7: No | AE7: No
C8: Month | D8: ALLOWANCES | O8: DEDUCTIONS | AC8: Bill No. & T.V. No.
D9: Basic Pay | E9: Dearness Pay | F9: Leave Pay | G9: Spl. Pay | H9: D.A. | I9: H.R.A. | J9: Washing Allow. | K9: ROP (If any, put the value in minus) | L9: Other Allowance 1 | M9: Other Allowance 2 | N9: Gross Salary | O9: =IF(D2="No","GPF","GPF 2004") -> GPF 2004 | P9: =IF(D2="No","GPF LOAN","") | Q9: SI | R9: SI LOAN + INT | S9: RPMF/RGHS | T9: LIC | U9: Group Insurance Accidental | V9: HBA Premium | W9: HBA Interest | X9: Income Tax / TDS | Y9: HITKARI NIDHI | Z9: CM Corona Fund | AA9: Total Deduction | AB9: Net Payment
B10: 3 | C10: 46082 | D10: 52300 | E10: 0 | F10: 0 | G10: 0 | H10: =ROUND(58%*D10,0) -> 30334 | I10: =IF($R$2=20%,ROUND(0.2*D10,0),ROUND(0.1*D10,0)) -> 5230 | J10: 0 | K10: 0 | L10: 0 | M10: 0 | N10: =SUM(D10:M10) -> 87864 | O10: =IF(D10<23101,1450,IF(D10<28501,1625,IF(D10<38501,2100,IF(D10<51501,2850,IF(D10<62001,3575,IF(D10<72001,4200,IF(D10<80001,4800,IF(D10<116001,6150,IF(D10<167001,8900,10500))))))))) -> 3575 | P10: 0 | Q10: 3000 | R10: 0 | S10: =IF(D10<18001,265,IF(D10<33501,440,IF(D10<54001,658,875))) -> 658 | T10: 0 | U10: 0 | X10: 0 | AA10: =SUM(O10:Y10) -> 7233 | AB10: =N10-AA10 -> 80631
B11: 4 | C11: 46113 | D11: =D10 -> 52300 | E11: =IF(E$10=0,0,ROUND(D11/2,0)) -> 0 | F11: =IF(F$10=0,0,F10) -> 0 | G11: =IF(G$10=0,0,G10) -> 0 | H11: =ROUND(58%*D11,0) -> 30334 | I11: =IF($R$2=20%,ROUND(0.2*D11,0),ROUND(0.1*D11,0)) -> 5230 | J11: =IF(J$10=0,0,J10) -> 0 | K11: =IF(K$10=0,0,K10) -> 0 | L11: =IF(L$10=0,0,L10) -> 0 | M11: =IF(M$10=0,0,M10) -> 0 | N11: =SUM(D11:M11) -> 87864 | O11: =IF(D11<23101,1450,IF(D11<28501,1625,IF(D11<38501,2100,IF(D11<51501,2850,IF(D11<62001,3575,IF(D11<72001,4200,IF(D11<80001,4800,IF(D11<116001,6150,IF(D11<167001,8900,10500))))))))) -> 3575 | P11: =P10 -> 0 | Q11: =Q10 -> 3000 | R11: =R10 -> 0 | S11: =IF(D11<18001,265,IF(D11<33501,440,IF(D11<54001,658,875))) -> 658 | T11: =T10 -> 0 | U11: 700 | V11: =V10 -> 0 | W11: =W10 -> 0 | X11: =X10 -> 0 | Y11: =Y10 -> 0 | AA11: =SUM(O11:Y11) -> 7933 | AB11: =N11-AA11 -> 79931
B12: 5 | C12: 46143 | D12: =D11 -> 52300 | E12: =IF($E$10=0,0,ROUND(D12/2,0)) -> 0 | F12: =IF(F$10=0,0,F11) -> 0 | G12: =IF(G$10=0,0,G11) -> 0 | H12: =ROUND(60%*D12,0) -> 31380 | I12: =IF($R$2=20%,ROUND(0.2*D12,0),ROUND(0.1*D12,0)) -> 5230 | J12: =IF(J$10=0,0,J11) -> 0 | K12: =IF(K$10=0,0,K11) -> 0 | L12: =IF(L$10=0,0,L11) -> 0 | M12: =IF(M$10=0,0,M11) -> 0 | N12: =SUM(D12:M12) -> 88910 | O12: =IF(D12<23101,1450,IF(D12<28501,1625,IF(D12<38501,2100,IF(D12<51501,2850,IF(D12<62001,3575,IF(D12<72001,4200,IF(D12<80001,4800,IF(D12<116001,6150,IF(D12<167001,8900,10500))))))))) -> 3575 | P12: =P11 -> 0 | Q12: =Q11 -> 3000 | R12: =R11 -> 0 | S12: =IF(D12<18001,265,IF(D12<33501,440,IF(D12<54001,658,875))) -> 658 | T12: =T11 -> 0 | U12: 0 | V12: =V11 -> 0 | W12: =W11 -> 0 | X12: =X11 -> 0 | Y12: =Y11 -> 0 | AA12: =SUM(O12:Y12) -> 7233 | AB12: =N12-AA12 -> 81677
B13: 6 | C13: 46174 | D13: =D12 -> 52300 | E13: =IF($E$10=0,0,ROUND(D13/2,0)) -> 0 | F13: =IF(F$10=0,0,F12) -> 0 | G13: =IF(G$10=0,0,G12) -> 0 | H13: =ROUND(60%*D13,0) -> 31380 | I13: =IF($R$2=20%,ROUND(0.2*D13,0),ROUND(0.1*D13,0)) -> 5230 | J13: =IF(J$10=0,0,J12) -> 0 | K13: =IF(K$10=0,0,K12) -> 0 | L13: =IF(L$10=0,0,L12) -> 0 | M13: =IF(M$10=0,0,M12) -> 0 | N13: =SUM(D13:M13) -> 88910 | O13: =IF(D13<23101,1450,IF(D13<28501,1625,IF(D13<38501,2100,IF(D13<51501,2850,IF(D13<62001,3575,IF(D13<72001,4200,IF(D13<80001,4800,IF(D13<116001,6150,IF(D13<167001,8900,10500))))))))) -> 3575 | P13: =P12 -> 0 | Q13: =Q12 -> 3000 | R13: =R12 -> 0 | S13: =IF(D13<18001,265,IF(D13<33501,440,IF(D13<54001,658,875))) -> 658 | T13: =T12 -> 0 | U13: 0 | V13: =V12 -> 0 | W13: =W12 -> 0 | X13: =X12 -> 0 | Y13: =Y12 -> 0 | AA13: =SUM(O13:Y13) -> 7233 | AB13: =N13-AA13 -> 81677
B14: 7 | C14: 46204 | D14: =MROUND(ROUND(1.03*D13,0),100) -> 53900 | E14: =IF($E$10=0,0,ROUND(D14/2,0)) -> 0 | F14: =IF(F$10=0,0,F13) -> 0 | G14: =IF(G$10=0,0,G13) -> 0 | H14: =ROUND(60%*D14,0) -> 32340 | I14: =IF($R$2=20%,ROUND(0.2*D14,0),ROUND(0.1*D14,0)) -> 5390 | J14: =IF(J$10=0,0,J13) -> 0 | K14: =IF(K$10=0,0,K13) -> 0 | L14: =IF(L$10=0,0,L13) -> 0 | M14: =IF(M$10=0,0,M13) -> 0 | N14: =SUM(D14:M14) -> 91630 | O14: =IF(D14<23101,1450,IF(D14<28501,1625,IF(D14<38501,2100,IF(D14<51501,2850,IF(D14<62001,3575,IF(D14<72001,4200,IF(D14<80001,4800,IF(D14<116001,6150,IF(D14<167001,8900,10500))))))))) -> 3575 | P14: =P13 -> 0 | Q14: =Q13 -> 3000 | R14: =R13 -> 0 | S14: =IF(D14<18001,265,IF(D14<33501,440,IF(D14<54001,658,875))) -> 658 | T14: =T13 -> 0 | U14: 0 | V14: =V13 -> 0 | W14: =W13 -> 0 | X14: =X13 -> 0 | Y14: =Y13 -> 0 | AA14: =SUM(O14:Y14) -> 7233 | AB14: =N14-AA14 -> 84397
B15: 8 | C15: 46235 | D15: =D14 -> 53900 | E15: =IF($E$10=0,0,ROUND(D15/2,0)) -> 0 | F15: =IF(F$10=0,0,F14) -> 0 | G15: =IF(G$10=0,0,G14) -> 0 | H15: =ROUND(60%*D15,0) -> 32340 | I15: =IF($R$2=20%,ROUND(0.2*D15,0),ROUND(0.1*D15,0)) -> 5390 | J15: =IF(J$10=0,0,J14) -> 0 | K15: =IF(K$10=0,0,K14) -> 0 | L15: =IF(L$10=0,0,L14) -> 0 | M15: =IF(M$10=0,0,M14) -> 0 | N15: =SUM(D15:M15) -> 91630 | O15: =IF(D15<23101,1450,IF(D15<28501,1625,IF(D15<38501,2100,IF(D15<51501,2850,IF(D15<62001,3575,IF(D15<72001,4200,IF(D15<80001,4800,IF(D15<116001,6150,IF(D15<167001,8900,10500))))))))) -> 3575 | P15: =P14 -> 0 | Q15: =Q14 -> 3000 | R15: =R14 -> 0 | S15: =IF(D15<18001,265,IF(D15<33501,440,IF(D15<54001,658,875))) -> 658 | T15: =T14 -> 0 | U15: 0 | V15: =V14 -> 0 | W15: =W14 -> 0 | X15: =X14 -> 0 | Y15: =Y14 -> 0 | AA15: =SUM(O15:Y15) -> 7233 | AB15: =N15-AA15 -> 84397
B16: 9 | C16: 46266 | D16: =D15 -> 53900 | E16: =IF($E$10=0,0,ROUND(D16/2,0)) -> 0 | F16: =IF(F$10=0,0,F15) -> 0 | G16: =IF(G$10=0,0,G15) -> 0 | H16: =ROUND(60%*D16,0) -> 32340 | I16: =IF($R$2=20%,ROUND(0.2*D16,0),ROUND(0.1*D16,0)) -> 5390 | J16: =IF(J$10=0,0,J15) -> 0 | K16: =IF(K$10=0,0,K15) -> 0 | L16: =IF(L$10=0,0,L15) -> 0 | M16: =IF(M$10=0,0,M15) -> 0 | N16: =SUM(D16:M16) -> 91630 | O16: =IF(D16<23101,1450,IF(D16<28501,1625,IF(D16<38501,2100,IF(D16<51501,2850,IF(D16<62001,3575,IF(D16<72001,4200,IF(D16<80001,4800,IF(D16<116001,6150,IF(D16<167001,8900,10500))))))))) -> 3575 | P16: =P15 -> 0 | Q16: =Q15 -> 3000 | R16: =R15 -> 0 | S16: =IF(D16<18001,265,IF(D16<33501,440,IF(D16<54001,658,875))) -> 658 | T16: =T15 -> 0 | U16: 0 | V16: =V15 -> 0 | W16: =W15 -> 0 | X16: =X15 -> 0 | Y16: =Y15 -> 0 | AA16: =SUM(O16:Y16) -> 7233 | AB16: =N16-AA16 -> 84397
B17: 10 | C17: 46296 | D17: =D16 -> 53900 | E17: =IF($E$10=0,0,ROUND(D17/2,0)) -> 0 | F17: =IF(F$10=0,0,F16) -> 0 | G17: =IF(G$10=0,0,G16) -> 0 | H17: =ROUND(60%*D17,0) -> 32340 | I17: =IF($R$2=20%,ROUND(0.2*D17,0),ROUND(0.1*D17,0)) -> 5390 | J17: =IF(J$10=0,0,J16) -> 0 | K17: =IF(K$10=0,0,K16) -> 0 | L17: =IF(L$10=0,0,L16) -> 0 | M17: =IF(M$10=0,0,M16) -> 0 | N17: =SUM(D17:M17) -> 91630 | O17: =IF(D17<23101,1450,IF(D17<28501,1625,IF(D17<38501,2100,IF(D17<51501,2850,IF(D17<62001,3575,IF(D17<72001,4200,IF(D17<80001,4800,IF(D17<116001,6150,IF(D17<167001,8900,10500))))))))) -> 3575 | P17: =P16 -> 0 | Q17: =Q16 -> 3000 | R17: =R16 -> 0 | S17: =IF(D17<18001,265,IF(D17<33501,440,IF(D17<54001,658,875))) -> 658 | T17: =T16 -> 0 | U17: 0 | V17: =V16 -> 0 | W17: =W16 -> 0 | X17: =X16 -> 0 | Y17: =Y16 -> 0 | AA17: =SUM(O17:Y17) -> 7233 | AB17: =N17-AA17 -> 84397
B18: 11 | C18: 46327 | D18: =D17 -> 53900 | E18: =IF($E$10=0,0,ROUND(D18/2,0)) -> 0 | F18: =IF(F$10=0,0,F17) -> 0 | G18: =IF(G$10=0,0,G17) -> 0 | H18: =ROUND(60%*D18,0) -> 32340 | I18: =IF($R$2=20%,ROUND(0.2*D18,0),ROUND(0.1*D18,0)) -> 5390 | J18: =IF(J$10=0,0,J17) -> 0 | K18: =IF(K$10=0,0,K17) -> 0 | L18: =IF(L$10=0,0,L17) -> 0 | M18: =IF(M$10=0,0,M17) -> 0 | N18: =SUM(D18:M18) -> 91630 | O18: =IF(D18<23101,1450,IF(D18<28501,1625,IF(D18<38501,2100,IF(D18<51501,2850,IF(D18<62001,3575,IF(D18<72001,4200,IF(D18<80001,4800,IF(D18<116001,6150,IF(D18<167001,8900,10500))))))))) -> 3575 | P18: =P17 -> 0 | Q18: =Q17 -> 3000 | R18: =R17 -> 0 | S18: =IF(D18<18001,265,IF(D18<33501,440,IF(D18<54001,658,875))) -> 658 | T18: =T17 -> 0 | U18: 0 | V18: =V17 -> 0 | W18: =W17 -> 0 | X18: =X17 -> 0 | Y18: =Y17 -> 0 | AA18: =SUM(O18:Y18) -> 7233 | AB18: =N18-AA18 -> 84397
B19: 12 | C19: 46357 | D19: =D18 -> 53900 | E19: =IF($E$10=0,0,ROUND(D19/2,0)) -> 0 | F19: =IF(F$10=0,0,F18) -> 0 | G19: =IF(G$10=0,0,G18) -> 0 | H19: =ROUND(60%*D19,0) -> 32340 | I19: =IF($R$2=20%,ROUND(0.2*D19,0),ROUND(0.1*D19,0)) -> 5390 | J19: =IF(J$10=0,0,J18) -> 0 | K19: =IF(K$10=0,0,K18) -> 0 | L19: =IF(L$10=0,0,L18) -> 0 | M19: =IF(M$10=0,0,M18) -> 0 | N19: =SUM(D19:M19) -> 91630 | O19: =IF(D19<23101,1450,IF(D19<28501,1625,IF(D19<38501,2100,IF(D19<51501,2850,IF(D19<62001,3575,IF(D19<72001,4200,IF(D19<80001,4800,IF(D19<116001,6150,IF(D19<167001,8900,10500))))))))) -> 3575 | P19: =P18 -> 0 | Q19: =Q18 -> 3000 | R19: =R18 -> 0 | S19: =IF(D19<18001,265,IF(D19<33501,440,IF(D19<54001,658,875))) -> 658 | T19: =T18 -> 0 | U19: 0 | V19: =V18 -> 0 | W19: =W18 -> 0 | X19: =X18 -> 0 | Y19: 250 | AA19: =SUM(O19:Y19) -> 7483 | AB19: =N19-AA19 -> 84147
B20: 1 | C20: 46388 | D20: =D19 -> 53900 | E20: =IF($E$10=0,0,ROUND(D20/2,0)) -> 0 | F20: =IF(F$10=0,0,F19) -> 0 | G20: =IF(G$10=0,0,G19) -> 0 | H20: =ROUND(60%*D20,0) -> 32340 | I20: =IF($R$2=20%,ROUND(0.2*D20,0),ROUND(0.1*D20,0)) -> 5390 | J20: =IF(J$10=0,0,J19) -> 0 | K20: =IF(K$10=0,0,K19) -> 0 | L20: =IF(L$10=0,0,L19) -> 0 | M20: =IF(M$10=0,0,M19) -> 0 | N20: =SUM(D20:M20) -> 91630 | O20: =IF(D20<23101,1450,IF(D20<28501,1625,IF(D20<38501,2100,IF(D20<51501,2850,IF(D20<62001,3575,IF(D20<72001,4200,IF(D20<80001,4800,IF(D20<116001,6150,IF(D20<167001,8900,10500))))))))) -> 3575 | P20: =P19 -> 0 | Q20: =Q19 -> 3000 | R20: =R19 -> 0 | S20: =IF(D20<18001,265,IF(D20<33501,440,IF(D20<54001,658,875))) -> 658 | T20: =T19 -> 0 | U20: 0 | V20: =V19 -> 0 | W20: =W19 -> 0 | X20: =X19 -> 0 | AA20: =SUM(O20:Y20) -> 7233 | AB20: =N20-AA20 -> 84397
B21: 2 | C21: 46419 | D21: =D20 -> 53900 | E21: =IF($E$10=0,0,ROUND(D21/2,0)) -> 0 | F21: =IF(F$10=0,0,F20) -> 0 | G21: =IF(G$10=0,0,G20) -> 0 | H21: =ROUND(60%*D21,0) -> 32340 | I21: =IF($R$2=20%,ROUND(0.2*D21,0),ROUND(0.1*D21,0)) -> 5390 | J21: =IF(J$10=0,0,J20) -> 0 | K21: =IF(K$10=0,0,K20) -> 0 | L21: =IF(L$10=0,0,L20) -> 0 | M21: =IF(M$10=0,0,M20) -> 0 | N21: =SUM(D21:M21) -> 91630 | O21: =IF(D21<23101,1450,IF(D21<28501,1625,IF(D21<38501,2100,IF(D21<51501,2850,IF(D21<62001,3575,IF(D21<72001,4200,IF(D21<80001,4800,IF(D21<116001,6150,IF(D21<167001,8900,10500))))))))) -> 3575 | P21: =P20 -> 0 | Q21: =Q20 -> 3000 | R21: =R20 -> 0 | S21: =IF(D21<18001,265,IF(D21<33501,440,IF(D21<54001,658,875))) -> 658 | T21: =T20 -> 0 | U21: 0 | V21: =V20 -> 0 | W21: =W20 -> 0 | X21: =X20 -> 0 | AA21: =SUM(O21:Y21) -> 7233 | AB21: =N21-AA21 -> 84397
C22: DA Arrear 60% | H22: =(ROUND(60%*D10,0)-ROUND(58%*D10,0))*4 -> 4184 | N22: =H22 -> 4184 | O22: =H22 -> 4184 | T22: 0 | AA22: =SUM(O22:Y22) -> 4184 | AB22: =N22-AA22 -> 0
C23: DA Arrear | N23: =H23 -> 0 | O23: =H23 -> 0 | T23: 0 | AA23: =SUM(O23:Y23) -> 0 | AB23: =N23-AA23 -> 0
C24: Surrender | D24: =IF(I2="NO",0,IF(O2=3,D21,VLOOKUP(O2,B10:D21,3,FALSE)))/2 -> 0 | H24: =IF(AND('GA-55'!O2>3,'GA-55'!O2<10),ROUND('GA-55'!D24*58%,0),IF(AND('GA-55'!O2>10,'GA-55'!O2<13),ROUND('GA-55'!D24*60%,0),ROUND('GA-55'!D24*60%,0))) -> 0 | N24: =SUM(D24:M24) -> 0 | AA24: =SUM(O24:Y24) -> 0 | AB24: =N24-AA24 -> 0
C25: Bonus | D25: =IF(V2="Yes",6774,0) -> 0 | N25: =SUM(D25:M25) -> 0 | O25: =ROUND(D25*25/100,0) -> 0 | AA25: =SUM(O25:Y25) -> 0 | AB25: =N25-AA25 -> 0
C26: Surrender Arrear | H26: =IF(AND('GA-55'!I2="Yes",OR('GA-55'!O2=1,'GA-55'!O2=2,'GA-55'!O2=3)),'GA-55'!D10*50%*2%,0) -> 0 | N26: =SUM(D26:M26) -> 0 | O26: =N26 -> 0 | AA26: =SUM(O26:Y26) -> 0 | AB26: =N26-AA26 -> 0
C27: Salary Arrear 1 | N27: =SUM(D27:M27) -> 0 | AA27: =SUM(O27:Y27) -> 0 | AB27: =N27-AA27 -> 0
C28: Salary Arrear 2 | N28: =SUM(D28:M28) -> 0 | AA28: =SUM(O28:Y28) -> 0 | AB28: =N28-AA28 -> 0
C29: Salary Arrear 3 | N29: =SUM(D29:M29) -> 0 | AA29: =SUM(O29:Y29) -> 0 | AB29: =N29-AA29 -> 0
C30: Other | E30: 0 | F30: 0 | N30: =SUM(D30:M30) -> 0 | AA30: =SUM(O30:Y30) -> 0 | AB30: =N30-AA30 -> 0
C31: TOTAL | D31: =SUM(D10:D30) -> 640400 | E31: =SUM(E10:E30) -> 0 | F31: =SUM(F10:F30) -> 0 | G31: =SUM(G10:G30) -> 0 | H31: =SUM(H10:H30) -> 386332 | I31: =SUM(I10:I30) -> 64040 | J31: =SUM(J10:J30) -> 0 | K31: =SUM(K10:K30) -> 0 | ... AB31: =SUM(AB10:AB30) -> 998842
E36: Signature of Employee | AB36: Signature of DDO

Sheet Other Deduction
A1: वेतन के अतिरिक्त कटौतियाँ, आय/जमा राशि एवं छूट का
A2: ='GA-55'!D6& " , " &'GA-55'!K6&" PAN- "&'GA-55'!P6 -> PARMANAND MEGHWAL , SR TEACHER PAN- XXXXXXXXX
A3: 1. मकान किराया भत्ता (छूट जो लेनी हैं।) | B3: 0 | D3: 18. बचत खाते की जमा राशि पर प्राप्त ब्याज (80 TTA/80 TTB) हेतु | E3: 0 | F3: BASIC+D.A. | DR3: UPS Kuhada Khurd
A4: 2. मनोरंजन भत्ता धारा 16(ii) के अंतर्गत | B4: 0 | D4: 19. अन्य आय - (एफडी पर ब्याज, अन्य ब्याज या अन्य स्त्रोत से आय आदि का योग) | E4: 0 | F4: ='GA-55'!N31-'GA-55'!I31 -> 1026732
A5: 3. व्यवसाय कर धारा 16(iii) के अंतर्गत | B5: 0 | D5: 20. अन्य जमा राशि (धारा 80C के अंतर्गत) | E5: 0 | F5: Taxable Amt
A6: 4. गृह संपत्ति से प्राप्त किराया - आय | B6: 0 | D6: 21. धारा 80CCC -पेंशन प्लान हेतु अंशदान (एनपीएस के अलावा) | E6: 0 | F6: ='Tax Old Regime'!Q47 -> 956990
A7: 5. गृहकर | B7: 0 | D7: 22. 80CCD(1B) - नवीन पेंशन योजना में अतिरिक्त अंशदान (अधिकतम रु. 50,000) | E7: 0 | F7: Tax Deposited
A8: 6. गृह ऋण किस्त मूल (जो वेतन से नहीं काटा गया) | B8: 0 | D8: 23. धारा 80D - चिकित्सा बीमा प्रीमियम (सामान्य-25,000 व वरिष्ठ नागरिक 50,000) | E8: 0 | F8: ='GA-55'!X31 -> 0
A9: 7. गृह ऋण किस्त ब्याज (जो वेतन से नहीं काटा गया) | B9: 0 | D9: 24. धारा 80DD विकलांग आश्रितों के चिकित्सा उपचार (अधिकतम: 75,000 व वरिष्ठ नागरिक 125,000) | E9: 0 | F9: Rebate Under Section 80C, 80CCC, 80CCD(1)
A10: 8. जीवन बीमा प्रीमियम जो (जो वेतन से नहीं काटा गया) LIC | B10: 0 | D10: 25. धारा 80DDB - विशिष्ट रोगों के उपचार हेतु (सामान्य 40,000 , वरिष्ठ नागरिक 1 लाख) | E10: 0 | DR10: UPS Banediya Charnan
A11: 9. पी.एल.आई. (PLI) | B11: 0 | D11: 26. धारा 80E उच्च शिक्षा हेतु लिए ऋण का ब्याज (धारा 10E) | E11: 0 | DR11: UPS Laxmipura Dhakaran
A12: 10. ट्यूशन फीस (Tution Fees) | B12: 0 | D12: 27. धारा 80G धर्मार्थ संस्थाओं आदि को दिये दान (क श्रेणी में 100 प्रतिशत एवं ख श्रेणी में 50 प्रतिशत) | E12: 0 | F12: ='Tax Old Regime'!Q31 -> 83784 | DR12: UPS Pathraj Kala
A13: 11. यू.एल.आई.पी./वार्षिक प्लान | B13: 0 | D13: 28. धारा 80U स्थाई रूप से शारीरिक असमर्थता की दशा में (अधिकतम 75,000 तथा अधिनियम 1995 के अनुसार 125,000) | E13: 0
A14: 12. राष्ट्रीय बचत पत्र (NSC) | B14: 0 | D14: 29. धारा 80GGA अनुमोदित वैज्ञानिक, सामाजिक, ग्रामीण विकास आदि हेतु दिया गया दान | E14: 0 | F14: मकान किराया छूट के रशीद की आवश्यकता | DR14: PS Aarampura
A15: 13. राष्ट्रीय बचत पत्र पर अदत्त ब्याज | B15: 0 | D15: 30. इक्विटी लिंक सेविंग स्कीम | E15: 0 | DR15: UPS Laxmipura Dhakaran
A16: 14. लोक भविष्य निधि (PPF) | B16: 0 | D16: 31. स्थगित वार्षिकी (Defferred Annuty) | E16: 0 | DR16: UPS Raghunathpura
A17: 15. राष्ट्रीय बचत स्कीम (NSS) | B17: 0 | D17: 32. राहत धारा 89 के तहत | E17: 0 | F17: =IF(B3>=1,(F4*10%+B3),0) -> 0 | DR17: UPS Manda
A18: 16. सुकन्या समृद्धि योजना में जमा राशि (SSY) | B18: 0 | D18: 33. वेतन बिल के अलावा जमा कराया गया आयकर (TDS) | E18: 0 | DR18: UPS Sandla
A19: 17. धारा 10(14) के अंतर्गत अन्य भत्ते | B19: 0 | D19: 34. धारा 80GGC राजनीतिक पार्टियों को दिया गया दान | E19: 0
A20: ='Tax Old Regime'!B63 -> Income Tax Payable | D20: ='Tax Old Regime'!Q63 -> 108054 | E20: HRA | F20: ='GA-55'!I31 -> 64040 | DR20: UPS Ramsinghpura
A21: ="Total Rebate of (US 80C, 80CCC,80CCD(1)) = "&'Tax Old Regime'!Q31 -> Total Rebate of (US 80C, 80CCC,80CCD(1)) = 83784 | D21: ="Investable Amount = "&(150000-'Tax Old Regime'!Q31) -> Investable Amount = 66216 | DR21: GSS Ganeshganj
A22: WWW.RAJTEACHERS.NET

Sheet Tax Old Regime
B1: ='GA-55'!C4 -> GOVT SR. SEC SCHOOL DILOD GORDHANPURA, ATRU BARAN
B2: आयकर गणना प्रपत्र वर्ष 2026-27 (कर निर्धारण वर्ष 2027-28)
B3: 1 | C3: नाम कर्मचारी : | E3: ='GA-55'!D6 -> PARMANAND MEGHWAL | K3: पद : | L3: ='GA-55'!K6 -> SR TEACHER | O3: PAN : | P3: =IF('GA-55'!P6="","",'GA-55'!P6) -> XXXXXXXXX
B4: 2 | C4: आय: वर्ष-2026-27 में प्राप्त कुल वेतन (कर योग्य सुविधाओं के मूल्य सहित) | P4: रु. | Q4: ='GA-55'!N31 -> 1090772
B5: 3 | C5: (i) गृह किराया, धारा 10(13-A) के अंतर्गत जो कर मुक्त हैं। | P5: रु. | Q5: ='Other Deduction'!B3 -> 0
C6: (ii) धारा 10(14) के अंतर्गत अन्य भत्ते | P6: रु. | Q6: ='Other Deduction'!B19 -> 0
B7: 4 | C7: शेष (2-3) | P7: रु. | Q7: =Q4-Q5-Q6 -> 1090772
B8: 5 | C8: (i) मनोरंजन भत्ता धारा 16(ii) के अंतर्गत (अधिकतम सीमा रु. 5000) | M8: ='Other Deduction'!B4 -> 0
C9: (ii) व्यवसाय कर धारा 16(iii) के अंतर्गत | M9: ='Other Deduction'!B5 -> 0
C10: (iii) स्टेंडर्ड डिडक्शन (Standard Deduction) 50,000 (अधिकतम) | M10: =IF(Q7<50000,Q7,50000) -> 50000 | P10: रु. | Q10: =SUM(M8:O10) -> 50000
B11: 6 | C11: शेष (4-5) | P11: रु. | Q11: =Q7-Q10 -> 1040772
B12: 7 | C12: (अ) गृह संपत्ति से आय (1)स्वयं के उपयोग में शून्य | K12: (2) प्राप्त किराया रु. | M12: ='Other Deduction'!B6 -> 0
C13: (ब) घटाये | E13: किराए का 30% | H13: गृह ऋण पर ब्याज | K13: गृहकर | M13: योग 7(ब)
E14: =ROUND(M12*0.3,0) -> 0 | H14: =IF(('GA-55'!W31+'Other Deduction'!B9)>200000,200000,('GA-55'!W31+'Other Deduction'!B9)) -> 0 | K14: ='Other Deduction'!B7 -> 0 | M14: =E14+H14+K14 -> 0
C15: शेष -/+(7(अ) एवं योग 7(ब) का | P15: रु. | Q15: =M12-M14 -> 0
B16: 8 | C16: कुल शेष -/+(6 एवं 7) | P16: रु. | Q16: =Q11+Q15 -> 1040772
B17: 9 | C17: अन्य आय | P17: रु. | Q17: ='Other Deduction'!E3+'Other Deduction'!E4 -> 0
B18: 10 | C18: सकल आय योग (8+9) | P18: रु. | Q18: =Q16+Q17 -> 1040772
B19: 11 | C19: घटाइए कटौतियाँ - धारा US 80C, 80CCC,80CCD (1)
C20: (A) अधिकतम सीमा 1,50,000/- (धारा 80CCE) के अलावा
C21: (i) | D21: राज्य बीमा (SI) | H21: रु. | I21: ='GA-55'!Q31 -> 36000 | J21: (x) | K21: पेंशन प्लान हेतु अंशदान धारा (80CCC) | N21: रु. | O21: ='Other Deduction'!E6 -> 0
C22: (ii) | D22: जीवन बीमा प्रीमियम (LIC) | H22: रु. | I22: ='GA-55'!T31+'Other Deduction'!B10 -> 0 | J22: (xi) | K22: राष्ट्रीय बचत पत्र पर आदत्त ब्याज | N22: रु. | O22: ='Other Deduction'!B15 -> 0
C23: (iii) | D23: राष्ट्रीय बचत पत्र (NSC) | H23: रु. | I23: ='Other Deduction'!B14 -> 0 | J23: (xii) | K23: ट्यूशन फीस | N23: रु. | O23: ='Other Deduction'!B12 -> 0
C24: (iv) | D24: लोक भविष्य निधि (PPF) | H24: रु. | I24: ='Other Deduction'!B16 -> 0 | J24: (xiii) | K24: इक्विटी लिंक सेविंग स्कीम | N24: रु. | O24: ='Other Deduction'!E15 -> 0
C25: (v) | D25: राष्ट्रीय बचत स्कीम (NSS) | H25: रु. | I25: ='Other Deduction'!B17 -> 0 | J25: (xv) | K25: स्थगित वार्षिकी (Defferred Annuty) | N25: रु. | O25: ='Other Deduction'!E16 -> 0
C26: (vi) | D26: सामान्य प्रावधायी निधि (GPF/GPF 2004) | H26: रु. | I26: ='GA-55'!O31 -> 47084 | J26: (xiv) | K26: पी.एल.आई. (PLI) | N26: रु. | O26: ='Other Deduction'!B11 -> 0
C27: (vii) | D27: सामूहिक बीमा प्रीमियम (G.Ins.) | H27: रु. | I27: ='GA-55'!U11 -> 700 | J27: (xvi) | K27: अन्य जमा राशि (80C के अंतर्गत) | N27: रु. | O27: ='Other Deduction'!E5 -> 0
C28: (viii) | D28: यू.एल.आई.पी./वार्षिक प्लान | H28: रु. | I28: ='Other Deduction'!B13 -> 0 | J28: (xvii) | K28: सुकन्या समृद्धि योजना में जमा राशि | N28: रु. | O28: ='Other Deduction'!B18 -> 0
C29: (ix) | D29: गृह ऋण किश्त (HBA Premium) | H29: रु. | I29: ='GA-55'!V31+'Other Deduction'!B8 -> 0 | J29: (xviii) | N29: रु.
C30: योग (i से XViii) | N30: रु. | O30: =SUM(I21:I29)+SUM(O21:O29) -> 83784
C31: अधिकतम कटौती की राशि 1.50 लाख रु. तक | P31: रु. | Q31: =IF(O30<150001,ROUND(O30,0),150000) -> 83784
C32: (B) घटाइए - धारा 80CCD 1(B) नवीन पेंशन योजना में अतिरिक्त अंशदान (अधिकतम रु. 50,000) | P32: रु. | Q32: ='Other Deduction'!E7 -> 0
C33: योग 11(A+B+C) | P33: रु. | Q33: =SUM(Q31:Q32) -> 83784
B34: 12 | C34: अन्य कटौतियाँ
C35: 1-धारा 80D, चिकित्सा बीमा प्रीमियम (स्वयं, पति/पत्नी व बच्चों के लिए रु. 25000, माता-पिता के लिए रु. 25000, सीनियर सिटीजन रु. 50,000) | P35: रु. | Q35: ='Other Deduction'!E8 -> 0
C36: 2-धारा 80D, विकलांग आश्रितों के चिकित्सा आश्रितों के चिकित्सा उपचार (अधिकतम 75,000 तथा 80% या अधिक विकलांगता रु. 125000) | P36: रु. | Q36: ='Other Deduction'!E9 -> 0
C37: 3-धारा 80D विशीष्ट रोगों के उपचार हेतु कटौती (अधिकतम रु. 40,000 , सीनियर सिटीजन हेतु रु. 100,000) | P37: रु. | Q37: ='Other Deduction'!E10 -> 0
C38: 4-धारा 80D, उच्च शिक्षा हेतु लिए ऋण का ब्याज | P38: रु. | Q38: ='Other Deduction'!E11 -> 0
C39: 5-धारा 80G धर्मार्थ संस्थाओं आदि को दिये दान (क श्रेणी में 100 प्रतिशत एवं ख श्रेणी में 50 प्रतिशत) | P39: रु. | Q39: ='Other Deduction'!E12 -> 0
C40: 6-धारा 80U स्थाई रूप से शारीरिक असमर्थता की दशा में (अधिकतम 75,000 तथा अधिनियम 1995 के अनुसार 125,000) | P40: रु. | Q40: ='Other Deduction'!E13 -> 0
...

Sheet Tax New Regime
B1: ='GA-55'!C4 -> GOVT SR. SEC SCHOOL DILOD GORDHANPURA, ATRU BARAN
B2: आयकर गणना प्रपत्र वर्ष 2026-27 (कर निर्धारण वर्ष 2027-28)
B3: 1 | C3: नाम कर्मचारी : | E3: ='GA-55'!D6 -> PARMANAND MEGHWAL | K3: पद : | L3: ='GA-55'!K6 -> SR TEACHER | O3: PAN : | P3: =IF('GA-55'!P6="","",'GA-55'!P6) -> XXXXXXXXX
B4: 2 | C4: आय: वर्ष-2026-27 में प्राप्त कुल वेतन (कर योग्य सुविधाओं के मूल्य सहित) | P4: रु. | Q4: ='GA-55'!N31 -> 1090772
B5: 3 | C5: (i) गृह किराया, धारा 10(13-A) के अंतर्गत जो कर मुक्त हैं। | P5: रु. | Q5: 0
C6: (ii) धारा 10(14) के अंतर्गत अन्य भत्ते | P6: रु. | Q6: 0
B7: 4 | C7: शेष (4-5) | P7: रु. | Q7: =Q4-Q5-Q6 -> 1090772
B8: 5 | C8: (i) मनोरंजन भत्ता धारा 16(ii) के अंतर्गत (अधिकतम सीमा रु. 5000) | M8: ='Other Deduction'!B4 -> 0
C9: (ii) व्यवसाय कर धारा 16(iii) के अंतर्गत | M9: ='Other Deduction'!B5 -> 0
C10: (iii) स्टेंडर्ड डिडक्शन (Standard Deduction) 75,000 (अधिकतम) | M10: 75000 | P10: रु. | Q10: =SUM(M8:O10) -> 75000
B11: 6 | C11: शेष (4-5) | P11: रु. | Q11: =Q7-Q10 -> 1015772
B12: 7 | C12: (अ) गृह संपत्ति से आय (1)स्वयं के उपयोग में शून्य | K12: (2) प्राप्त किराया रु. | M12: ='Other Deduction'!B6 -> 0
C13: (ब) घटाये | E13: किराए का 30% | H13: गृह ऋण पर ब्याज | K13: गृहकर | M13: योग 7(ब)
E14: =ROUND(M12*0.3,0) -> 0 | H14: 0 | K14: ='Other Deduction'!B7 -> 0 | M14: =E14+H14+K14 -> 0
C15: शेष -/+(7(अ) एवं योग 7(ब) का | P15: रु. | Q15: =M12-M14 -> 0
B16: 8 | C16: कुल शेष -/+(6 एवं 7) | P16: रु. | Q16: =Q11+Q15 -> 1015772
B17: 9 | C17: अन्य आय | P17: रु. | Q17: ='Other Deduction'!E3+'Other Deduction'!E4 -> 0
B18: 10 | C18: सकल आय योग (8+9) | P18: रु. | Q18: =Q16+Q17 -> 1015772
B19: 11 | C19: घटाइए कटौतियाँ - धारा US 80C, 80CCC,80CCD (1)
C20: (A) अधिकतम सीमा 1,50,000/- (धारा 80CCE) के अलावा
C21: (i) | D21: राज्य बीमा (SI) | H21: रु. | I21: 0 | J21: (x) | K21: पेंशन प्लान हेतु अंशदान धारा (80CCC) | N21: रु. | O21: ='Other Deduction'!E6 -> 0
C22: (ii) | D22: जीवन बीमा प्रीमियम (LIC) | H22: रु. | I22: ='GA-55'!T31+'Other Deduction'!B10 -> 0 | J22: (xi) | K22: राष्ट्रीय बचत पत्र पर आदत्त ब्याज | N22: रु. | O22: ='Other Deduction'!B15 -> 0
C23: (iii) | D23: राष्ट्रीय बचत पत्र (NSC) | H23: रु. | I23: ='Other Deduction'!B14 -> 0 | J23: (xii) | K23: ट्यूशन फीस | N23: रु. | O23: ='Other Deduction'!B12 -> 0
C24: (iv) | D24: लोक भविष्य निधि (PPF) | H24: रु. | I24: ='Other Deduction'!B16 -> 0 | J24: (xiii) | K24: इक्विटी लिंक सेविंग स्कीम | N24: रु. | O24: ='Other Deduction'!E15 -> 0
C25: (v) | D25: राष्ट्रीय बचत स्कीम (NSS) | H25: रु. | I25: ='Other Deduction'!B17 -> 0 | J25: (xv) | K25: स्थगित वार्षिकी (Defferred Annuty) | N25: रु. | O25: ='Other Deduction'!E16 -> 0
C26: (vi) | D26: सामान्य प्रावधायी निधि (GPF/GPF 2004) | H26: रु. | I26: 0 | J26: (xiv) | K26: पी.एल.आई. (PLI) | N26: रु. | O26: ='Other Deduction'!B11 -> 0
C27: (vii) | D27: सामूहिक बीमा प्रीमियम (G.Ins.) | H27: रु. | I27: 0 | J27: (xvi) | K27: अन्य जमा राशि (80C के अंतर्गत) | N27: रु. | O27: ='Other Deduction'!E5 -> 0
C28: (viii) | D28: यू.एल.आई.पी./वार्षिक प्लान | H28: रु. | I28: ='Other Deduction'!B13 -> 0 | J28: (xvii) | K28: सुकन्या समृद्धि योजना में जमा राशि | N28: रु. | O28: ='Other Deduction'!B18 -> 0
C29: (ix) | D29: गृह ऋण किश्त (HBA Premium) | H29: रु. | I29: ='GA-55'!V31+'Other Deduction'!B8 -> 0 | J29: (xviii) | N29: रु.
C30: योग (i से XViii) | N30: रु. | O30: =SUM(I21:I29)+SUM(O21:O29) -> 0
C31: अधिकतम कटौती की राशि 1.50 लाख रु. तक | P31: रु. | Q31: 0
C32: (B)घटाइये- धारा 80CCD(2) नियोक्ता द्वारा पेंशन अंशदान की राशि (अधिकतम वेतन का 14 % ) पृथक से छूट | P32: रु. | Q32: 0
C33: योग 11(A+B+C) | P33: रु. | Q33: =SUM(Q31:Q31) -> 0
B34: 12 | C34: अन्य कटौतियाँ
C35: 1-धारा 80D, चिकित्सा बीमा प्रीमियम (स्वयं, पति/पत्नी व बच्चों के लिए रु. 25000, माता-पिता के लिए रु. 25000, सीनियर सिटीजन रु. 50,000) | P35: रु. | Q35: 0
C36: 2-धारा 80D, विकलांग आश्रितों के चिकित्सा आश्रितों के चिकित्सा उपचार (अधिकतम 75,000 तथा 80% या अधिक विकलांगता रु. 125000) | P36: रु. | Q36: 0
C37: 3-धारा 80D विशीष्ट रोगों के उपचार हेतु कटौती (अधिकतम रु. 40,000 , सीनियर सिटीजन हेतु रु. 100,000) | P37: रु. | Q37: 0
C38: 4-धारा 80D, उच्च शिक्षा हेतु लिए ऋण का ब्याज | P38: रु. | Q38: 0
C39: 5-धारा 80D धर्मार्थ संस्थाओं आदि को दिये दान (क श्रेणी में 100 प्रतिशत एवं ख श्रेणी में 50 प्रतिशत) | P39: रु. | Q39: 0
C40: 6-धारा 80U स्थाई रूप से शारीरिक असमर्थता की दशा में (अधिकतम 75,000 तथा अधिनियम 1995 के अनुसार 125,000) | P40: रु. | Q40: 0
...

Sheet Form 16
A1: SELECT TAX REGIME OPTION | I1: NEW REGIME
A2: FORM NO.16
A3: [See rule 31 (1) (a)]
A4: Part A
A5: Certificate under section 203 of the Income Tax Act, 1961 for tax deducted
A6: at source from income chargeable under the head “ Salaries “
A7: Name and address of the employer | G7: Name and Designation of the employee
A8: RAJENDRA KUMAR CHITTORA | G8: ='GA-55'!D6 -> PARMANAND MEGHWAL
A9: PRINCIPAL | G9: ='GA-55'!K6 -> SR TEACHER
A10: ='GA-55'!C4 -> GOVT SR. SEC SCHOOL DILOD GORDHANPURA, ATRU BARAN | G10: =A10 -> GOVT SR. SEC SCHOOL DILOD GORDHANPURA, ATRU BARAN
A12: PAN of the Deducter | D12: TAN of the Deducter | G12: PAN of the Employee
D13: ='GA-55'!U6 -> AAAAAAAA | G13: ='GA-55'!P6 -> XXXXXXXXX
A14: TDS Circle where annual | G14: PERIOD | J14: Assessment Year
A15: return / statement under | G15: FROM | I15: TO | J15: 2027-28
A16: section 206 is to be filed | G16: 01.04.2026 | I16: 31.03.2027
A17: Smmary of amount Paid/credited and tax Deducted at source thereon in respect of the Employee
A18: Quarter(s) | C18: Receipt Numbersof Original Quaterly Statements of TDS Under Sub-Section (3) of Section 200 | F18: Amount Paid cridited | H18: Amount of Tax Deducted (Rs) | K18: Amount of Tax Deposited / Remitted (Rs)
A19: Quarter 1 | F19: =SUM('GA-55'!N10+'GA-55'!N11+'GA-55'!N12) -> 264638 | H19: =SUM('GA-55'!X10:X12) -> 0 | K19: =H19 -> 0
A20: Quarter 2 | F20: =SUM('GA-55'!N13+'GA-55'!N14+'GA-55'!N15+'GA-55'!N22) -> 276354 | H20: =SUM('GA-55'!X13:X15)+'GA-55'!X22 -> 0 | K20: =H20 -> 0
A21: Quarter 3 | F21: =SUM('GA-55'!N16+'GA-55'!N17+'GA-55'!N18+'GA-55'!N25) -> 274890 | H21: =SUM('GA-55'!X16:X18)+'GA-55'!X25 -> 0 | K21: =H21 -> 0
A22: Quarter 4 | F22: =SUM('GA-55'!N19+'GA-55'!N20+'GA-55'!N21+'GA-55'!N22+'GA-55'!N24+'GA-55'!N26+'GA-55'!N227+'GA-55'!N28+'GA-55'!N29+'GA-55'!N30) -> 279074 | H22: =SUM('GA-55'!X19:X30) -> 0 | K22: =H22 -> 0
A23: Total | F23: =SUM(F19:F22) -> 1094956 | H23: =SUM(H19:H22) -> 0 | K23: =SUM(K19:K22) -> 0
A24: I.DETAILS TAX DEDUCTED AND DEPOSITED INTO CENTRAL GOVERNMENT ACCOUNT THROUGH BOOK ADJUSTMENT
A25: S.No | B25: Tax Deposited In Respect | E25: Book Identification Number (BIN)
B26: of the deducter | E26: Receipt Numbers of | G26: DDO Serial No in | I26: Date Of Transfer | K26: Status of Maching
C27: (Rs) | E27: Form No.24G | G27: Form No.24G | I27: Form No.24G | K27: with Form.No 24G
I28: (dd/mm/yyyy)
A29: 1 | B29: ='GA-55'!X10 -> 0
A30: 2 | B30: ='GA-55'!X11 -> 0
A31: 3 | B31: ='GA-55'!X12 -> 0
A32: 4 | B32: ='GA-55'!X13 -> 0
A33: 5 | B33: ='GA-55'!X14 -> 0
A34: 6 | B34: ='GA-55'!X15 -> 0
A35: 7 | B35: ='GA-55'!X16 -> 0
A36: 8 | B36: ='GA-55'!X17 -> 0
A37: 9 | B37: ='GA-55'!X18 -> 0
A38: 10 | B38: ='GA-55'!X19 -> 0
A39: 11 | B39: ='GA-55'!X20 -> 0
A40: 12 | B40: ='GA-55'!X21 -> 0
A41: 13 | B41: =SUM('GA-55'!X22+'GA-55'!X23+'GA-55'!X24+'GA-55'!X25+'GA-55'!X26+'GA-55'!X27+'GA-55'!X28+'GA-55'!X29+'GA-55'!X30) -> 0
...
